BEGIN:VCALENDAR
VERSION:2.0
PRODID:https://www.beilngries.de/
X-PUBLISHED-TTL:P1D
BEGIN:VEVENT
UID:69e76fa12374c
DTSTART:20260615T170000Z
SEQUENCE:0
TRANSP:OPAQUE
DTEND:20260615T183000Z
URL:https://www.beilngries.de/veranstaltungen/akupressur-der_sanfte_weg_der
 -807309-12681969/
LOCATION:Spielzeugmuseum 1. OG Schulungsraum Schachclub - Beilngries
SUMMARY:Akupressur - der sanfte Weg der Selbstheilung
DESCRIPTION:mit Reindl Hannelore
DTSTAMP:20260421T143753Z
END:VEVENT
END:VCALENDAR