BEGIN:VCALENDAR
VERSION:2.0
PRODID:https://www.beilngries.de/
X-PUBLISHED-TTL:P1D
BEGIN:VEVENT
UID:69e77f3bc3cf9
DTSTART:20260425T080000Z
SEQUENCE:0
TRANSP:OPAQUE
DTEND:20260425T110000Z
URL:https://www.beilngries.de/veranstaltungen/alles_beginnt_mit_einer_entsc
 h-807295/
LOCATION:vhs-Gebäude\, Ringstraße 16 - Beilngries
SUMMARY:Alles beginnt mit einer Entscheidung!
DESCRIPTION:mit Dr. Kerstin Schuster
DTSTAMP:20260421T154427Z
END:VEVENT
END:VCALENDAR