BEGIN:VCALENDAR
VERSION:2.0
PRODID:https://www.beilngries.de/
X-PUBLISHED-TTL:P1D
BEGIN:VEVENT
UID:69e72ff4a6ecb
DTSTART:20260414T163000Z
SEQUENCE:0
TRANSP:OPAQUE
DTEND:20260414T193000Z
URL:https://www.beilngries.de/veranstaltungen/bayrisch_vegetarisch_im_frueh
 l-772763-12666005/
LOCATION:Mittelschule Beilngries\, Schulküche - Beilngries
SUMMARY:Bayrisch vegetarisch im Frühling u. a. mit Bärlauchrezepten
DESCRIPTION:mit Ingrid Taudte
DTSTAMP:20260421T100612Z
END:VEVENT
END:VCALENDAR