BEGIN:VCALENDAR
VERSION:2.0
PRODID:https://www.beilngries.de/
X-PUBLISHED-TTL:P1D
BEGIN:VEVENT
UID:69e9d1f0abd33
DTSTART:20260422T160000Z
SEQUENCE:0
TRANSP:OPAQUE
DTEND:20260422T160000Z
URL:https://www.beilngries.de/veranstaltungen/beilngries_repariert-807273-1
 2681929/
LOCATION:Bürgertreff im alten Feuerwehrhaus - Beilngries
SUMMARY:BEILNGRIES REPARIERT
DTSTAMP:20260423T100152Z
END:VEVENT
END:VCALENDAR