BEGIN:VCALENDAR
VERSION:2.0
PRODID:https://www.beilngries.de/
X-PUBLISHED-TTL:P1D
BEGIN:VEVENT
UID:69e9d24ccc60f
DTSTART:20260509T070000Z
SEQUENCE:0
TRANSP:OPAQUE
DTEND:20260509T100000Z
URL:https://www.beilngries.de/veranstaltungen/beilngrieser_bauernmarkt-7324
 35-12633003/
LOCATION:Kirchenvorplatz - Beilngries
SUMMARY:Beilngrieser Bauernmarkt
DTSTAMP:20260423T100324Z
END:VEVENT
END:VCALENDAR