BEGIN:VCALENDAR
VERSION:2.0
PRODID:https://www.beilngries.de/
X-PUBLISHED-TTL:P1D
BEGIN:VEVENT
UID:69ecc26c2f33d
DTSTART:20260919T070000Z
SEQUENCE:0
TRANSP:OPAQUE
DTEND:20260919T100000Z
URL:https://www.beilngries.de/veranstaltungen/beilngrieser_bauernmarkt-7324
 35-12633039/
LOCATION:Kirchenvorplatz - Beilngries
SUMMARY:Beilngrieser Bauernmarkt
DTSTAMP:20260425T153228Z
END:VEVENT
END:VCALENDAR