BEGIN:VCALENDAR
VERSION:2.0
PRODID:https://www.beilngries.de/
X-PUBLISHED-TTL:P1D
BEGIN:VEVENT
UID:69ec3eb69ddc1
DTSTART:20261219T080000Z
SEQUENCE:0
TRANSP:OPAQUE
DTEND:20261219T110000Z
URL:https://www.beilngries.de/veranstaltungen/beilngrieser_bauernmarkt-7324
 35-12633065/
LOCATION:Kirchenvorplatz - Beilngries
SUMMARY:Beilngrieser Bauernmarkt
DTSTAMP:20260425T061030Z
END:VEVENT
END:VCALENDAR