BEGIN:VCALENDAR
VERSION:2.0
PRODID:https://www.beilngries.de/
X-PUBLISHED-TTL:P1D
BEGIN:VEVENT
UID:69e9e39bc3dc2
DTSTART:20260802T060000Z
SEQUENCE:0
TRANSP:OPAQUE
DTEND:20260802T130000Z
URL:https://www.beilngries.de/veranstaltungen/beilngrieser_flohmarkt-489103
 -12593133/
LOCATION:Volksfestplatz - Beilngries
SUMMARY:Beilngrieser Flohmarkt
DTSTAMP:20260423T111715Z
END:VEVENT
END:VCALENDAR