BEGIN:VCALENDAR
VERSION:2.0
PRODID:https://www.beilngries.de/
X-PUBLISHED-TTL:P1D
BEGIN:VEVENT
UID:69e72fd34e22d
DTSTART:20261108T070000Z
SEQUENCE:0
TRANSP:OPAQUE
DTEND:20261108T140000Z
URL:https://www.beilngries.de/veranstaltungen/beilngrieser_flohmarkt-489103
 -12593139/
LOCATION:Volksfestplatz - Beilngries
SUMMARY:Beilngrieser Flohmarkt
DTSTAMP:20260421T100539Z
END:VEVENT
END:VCALENDAR