BEGIN:VCALENDAR
VERSION:2.0
PRODID:https://www.beilngries.de/
X-PUBLISHED-TTL:P1D
BEGIN:VEVENT
UID:69e76fc9dfb6e
DTSTART:20260609T073000Z
SEQUENCE:0
TRANSP:OPAQUE
DTEND:20260609T083000Z
URL:https://www.beilngries.de/veranstaltungen/buggy_fit_outdoor-kurs-_becke
 n-807311-12681973/
LOCATION:Sulzpark - Beilngries
SUMMARY:Buggy Fit Outdoor-Kurs-  Beckenbodengymnastik mit Baby
DESCRIPTION:mit Holzner Bettina
DTSTAMP:20260421T143833Z
END:VEVENT
END:VCALENDAR