BEGIN:VCALENDAR
VERSION:2.0
PRODID:https://www.beilngries.de/
X-PUBLISHED-TTL:P1D
BEGIN:VEVENT
UID:69e770d9810a3
DTSTART:20260714T073000Z
SEQUENCE:0
TRANSP:OPAQUE
DTEND:20260714T083000Z
URL:https://www.beilngries.de/veranstaltungen/buggy_fit_outdoor-kurs-_becke
 n-807311-12681979/
LOCATION:Sulzpark - Beilngries
SUMMARY:Buggy Fit Outdoor-Kurs-  Beckenbodengymnastik mit Baby
DESCRIPTION:mit Holzner Bettina
DTSTAMP:20260421T144305Z
END:VEVENT
END:VCALENDAR