BEGIN:VCALENDAR
VERSION:2.0
PRODID:https://www.beilngries.de/
X-PUBLISHED-TTL:P1D
BEGIN:VEVENT
UID:69e7809d9d56b
DTSTART:20260602T073000Z
SEQUENCE:0
TRANSP:OPAQUE
DTEND:20260602T083000Z
URL:https://www.beilngries.de/veranstaltungen/buggy_fit_outdoor-kurs-_becke
 n-807311/
LOCATION:Sulzpark - Beilngries
SUMMARY:Buggy Fit Outdoor-Kurs-  Beckenbodengymnastik mit Baby
DESCRIPTION:mit Holzner Bettina
DTSTAMP:20260421T155021Z
END:VEVENT
END:VCALENDAR