BEGIN:VCALENDAR
VERSION:2.0
PRODID:https://www.beilngries.de/
X-PUBLISHED-TTL:P1D
BEGIN:VEVENT
UID:69e76fca4c33d
DTSTART:20260518T170000Z
SEQUENCE:0
TRANSP:OPAQUE
DTEND:20260518T183000Z
URL:https://www.beilngries.de/veranstaltungen/einfuehrung_in_die_akupressur
 -807307-12681965/
LOCATION:Spielzeugmuseum 1. OG Schulungsraum Schachclub - Beilngries
SUMMARY:Einführung in die Akupressur - der sanfte Weg der Selbstheilung
DESCRIPTION:mit Reindl Hannelore
DTSTAMP:20260421T143834Z
END:VEVENT
END:VCALENDAR