BEGIN:VCALENDAR
VERSION:2.0
PRODID:https://www.beilngries.de/
X-PUBLISHED-TTL:P1D
BEGIN:VEVENT
UID:69e76f9f9bc4d
DTSTART:20260605T153000Z
SEQUENCE:0
TRANSP:OPAQUE
DTEND:20260605T173000Z
URL:https://www.beilngries.de/veranstaltungen/einkommensteuer_online_abgebe
 n-807287-12681943/
LOCATION:vhs-Gebäude\, Ringstraße 16 - Beilngries
SUMMARY:Einkommensteuer Online abgeben - Der Umstieg auf Elster
DESCRIPTION:mit Tim Klein
DTSTAMP:20260421T143751Z
END:VEVENT
END:VCALENDAR