BEGIN:VCALENDAR
VERSION:2.0
PRODID:https://www.beilngries.de/
X-PUBLISHED-TTL:P1D
BEGIN:VEVENT
UID:69e9f309183bf
DTSTART:20260424T153000Z
SEQUENCE:0
TRANSP:OPAQUE
DTEND:20260424T183000Z
URL:https://www.beilngries.de/veranstaltungen/elternzeit_und_elterngeld_lei
 c-807277/
LOCATION:Spielzeugmuseum Beilngries\, 1. OG\, Schulungsraum Rosenstüberl -
  Beilngries
SUMMARY:Elternzeit und Elterngeld leicht gemacht
DESCRIPTION:mit Lisa-Marie Gietl
DTSTAMP:20260423T122305Z
END:VEVENT
END:VCALENDAR