BEGIN:VCALENDAR
VERSION:2.0
PRODID:https://www.beilngries.de/
X-PUBLISHED-TTL:P1D
BEGIN:VEVENT
UID:69e76f79a3277
DTSTART:20260520T160000Z
SEQUENCE:0
TRANSP:OPAQUE
DTEND:20260520T190000Z
URL:https://www.beilngries.de/veranstaltungen/immunsystem_staerkende_erfris
 c-807345-12682059/
LOCATION:Altes Feuerwehrhaus - Beilngries
SUMMARY:\"Immunsystem stärkende Erfrischungsgetränke- selbstgemacht und k
 östlich\"
DESCRIPTION:mit Kipfelsberger-Halsner Bianka
DTSTAMP:20260421T143713Z
END:VEVENT
END:VCALENDAR