BEGIN:VCALENDAR
VERSION:2.0
PRODID:https://www.beilngries.de/
X-PUBLISHED-TTL:P1D
BEGIN:VEVENT
UID:69e9f30881be9
DTSTART:20260430T163000Z
SEQUENCE:0
TRANSP:OPAQUE
DTEND:20260430T180000Z
URL:https://www.beilngries.de/veranstaltungen/impfungen_wurmkuren_co-807279
 /
LOCATION:vhs-Gebäude\, Ringstraße 16 - Beilngries
SUMMARY:Impfungen\, Wurmkuren & Co.
DESCRIPTION:mit Heidi Edelmayer
DTSTAMP:20260423T122304Z
END:VEVENT
END:VCALENDAR