BEGIN:VCALENDAR
VERSION:2.0
PRODID:https://www.beilngries.de/
X-PUBLISHED-TTL:P1D
BEGIN:VEVENT
UID:69e76e8d58f21
DTSTART:20260509T080000Z
SEQUENCE:0
TRANSP:OPAQUE
DTEND:20260509T103000Z
URL:https://www.beilngries.de/veranstaltungen/kinder-kueche-kinder_von_6-12
 -807319-12682021/
LOCATION:vhs-Gebäude\, Ringstraße 16 - Beilngries
SUMMARY:\"Kinder-Küche\" - Kinder von 6 - 12 Jahre
DESCRIPTION:mit Mödl Anita
DTSTAMP:20260421T143317Z
END:VEVENT
END:VCALENDAR