BEGIN:VCALENDAR
VERSION:2.0
PRODID:https://www.beilngries.de/
X-PUBLISHED-TTL:P1D
BEGIN:VEVENT
UID:69e7802c91a36
DTSTART:20260611T160000Z
SEQUENCE:0
TRANSP:OPAQUE
DTEND:20260611T200000Z
URL:https://www.beilngries.de/veranstaltungen/kochen_maenner_unter_sich-807
 343/
LOCATION:Mittelschule Beilngries\, Schulküche - Beilngries
SUMMARY:KOCHEN \"Männer unter sich\"
DESCRIPTION:mit Mödl Anita
DTSTAMP:20260421T154828Z
END:VEVENT
END:VCALENDAR