BEGIN:VCALENDAR
VERSION:2.0
PRODID:https://www.beilngries.de/
X-PUBLISHED-TTL:P1D
BEGIN:VEVENT
UID:69e783f09b3b1
DTSTART:20260526T130000Z
SEQUENCE:0
TRANSP:OPAQUE
DTEND:20260526T160000Z
URL:https://www.beilngries.de/veranstaltungen/kreatives_kinderatelier_von_9
 -807349/
LOCATION:Spielzeugmuseum Beilngries\, 1. OG\, Schulungsraum Rosenstüberl -
  Beilngries
SUMMARY:Kreatives Kinderatelier von 9 - 13 Jahren in den Pfingstferien
DESCRIPTION:mit Ablaßmaier Hildegard und Bilska Olena
DTSTAMP:20260421T160432Z
END:VEVENT
BEGIN:VEVENT
UID:69e783f09b443
DTSTART:20260527T130000Z
SEQUENCE:0
TRANSP:OPAQUE
DTEND:20260527T160000Z
URL:https://www.beilngries.de/veranstaltungen/kreatives_kinderatelier_von_9
 -807349/
LOCATION:Spielzeugmuseum Beilngries\, 1. OG\, Schulungsraum Rosenstüberl -
  Beilngries
SUMMARY:Kreatives Kinderatelier von 9 - 13 Jahren in den Pfingstferien
DESCRIPTION:mit Ablaßmaier Hildegard und Bilska Olena
DTSTAMP:20260421T160432Z
END:VEVENT
END:VCALENDAR