BEGIN:VCALENDAR
VERSION:2.0
PRODID:https://www.beilngries.de/
X-PUBLISHED-TTL:P1D
BEGIN:VEVENT
UID:69e770bac49f3
DTSTART:20260618T080000Z
SEQUENCE:0
TRANSP:OPAQUE
DTEND:20260618T090000Z
URL:https://www.beilngries.de/veranstaltungen/kreis-_und_reigentaenze-80731
 7-12682013/
LOCATION:Gymnastikraum\, Hauptstr. 49 - Beilngries
SUMMARY:Kreis- und Reigentänze
DESCRIPTION:mit Obermeyer Rosemarie
DTSTAMP:20260421T144234Z
END:VEVENT
END:VCALENDAR