BEGIN:VCALENDAR
VERSION:2.0
PRODID:https://www.beilngries.de/
X-PUBLISHED-TTL:P1D
BEGIN:VEVENT
UID:69e76fc9df757
DTSTART:20260505T170000Z
SEQUENCE:0
TRANSP:OPAQUE
DTEND:20260505T183000Z
URL:https://www.beilngries.de/veranstaltungen/kuechen-_und_gewuerzkraeuter_
 s-807305-12681961/
LOCATION:Spielzeugmuseum 1. OG Schulungsraum Schachclub - Beilngries
SUMMARY:Küchen- und Gewürzkräuter schmackhaft
DESCRIPTION:mit Reindl Hannelore
DTSTAMP:20260421T143833Z
END:VEVENT
END:VCALENDAR