BEGIN:VCALENDAR
VERSION:2.0
PRODID:https://www.beilngries.de/
X-PUBLISHED-TTL:P1D
BEGIN:VEVENT
UID:69e76f92f2b56
DTSTART:20260612T063000Z
SEQUENCE:0
TRANSP:OPAQUE
DTEND:20260612T073000Z
URL:https://www.beilngries.de/veranstaltungen/life_kinetik-gehirntraining_d
 u-807313-12681983/
LOCATION:Pfarrheim Beilngries - Beilngries
SUMMARY:Life Kinetik - Gehirntraining durch Bewegung
DESCRIPTION:mit Kiefer Andrea
DTSTAMP:20260421T143739Z
END:VEVENT
END:VCALENDAR