BEGIN:VCALENDAR
VERSION:2.0
PRODID:https://www.beilngries.de/
X-PUBLISHED-TTL:P1D
BEGIN:VEVENT
UID:69e76f9377041
DTSTART:20260717T063000Z
SEQUENCE:0
TRANSP:OPAQUE
DTEND:20260717T073000Z
URL:https://www.beilngries.de/veranstaltungen/life_kinetik-gehirntraining_d
 u-807313-12681991/
LOCATION:Pfarrheim Beilngries - Beilngries
SUMMARY:Life Kinetik - Gehirntraining durch Bewegung
DESCRIPTION:mit Kiefer Andrea
DTSTAMP:20260421T143739Z
END:VEVENT
END:VCALENDAR