BEGIN:VCALENDAR
VERSION:2.0
PRODID:https://www.beilngries.de/
X-PUBLISHED-TTL:P1D
BEGIN:VEVENT
UID:69eaa5db05ea9
DTSTART:20260501T183000Z
SEQUENCE:0
TRANSP:OPAQUE
DTEND:20260501T183000Z
URL:https://www.beilngries.de/veranstaltungen/live_im_kaiserbeck_stompbox-7
 77031-12667989/
LOCATION:Kaiserbeck Café-Bar - Beilngries
SUMMARY:LIVE IM KAISERBECK STOMPBOX
DTSTAMP:20260424T010603Z
END:VEVENT
END:VCALENDAR