BEGIN:VCALENDAR
VERSION:2.0
PRODID:https://www.beilngries.de/
X-PUBLISHED-TTL:P1D
BEGIN:VEVENT
UID:69e72fbdcb70e
DTSTART:20260315T090000Z
SEQUENCE:0
TRANSP:OPAQUE
DTEND:20260315T150000Z
URL:https://www.beilngries.de/veranstaltungen/maedchenflohmarkt_beilngries-
 768045-12663331/
LOCATION:Pfarrsaal - Beilngries
SUMMARY:Mädchenflohmarkt Beilngries
DTSTAMP:20260421T100517Z
END:VEVENT
END:VCALENDAR