BEGIN:VCALENDAR
VERSION:2.0
PRODID:https://www.beilngries.de/
X-PUBLISHED-TTL:P1D
BEGIN:VEVENT
UID:69e782435231f
DTSTART:20260627T080000Z
SEQUENCE:0
TRANSP:OPAQUE
DTEND:20260627T113000Z
URL:https://www.beilngries.de/veranstaltungen/maenner_und_kinder_ab_6_jahre
 -807341/
LOCATION:Mittelschule Beilngries\, Schulküche - Beilngries
SUMMARY:\"Männer und Kinder (ab 6 Jahre) kochen gemeinsam\"
DESCRIPTION:mit Mödl Anita
DTSTAMP:20260421T155723Z
END:VEVENT
END:VCALENDAR