BEGIN:VCALENDAR
VERSION:2.0
PRODID:https://www.beilngries.de/
X-PUBLISHED-TTL:P1D
BEGIN:VEVENT
UID:69e9f1ebf35e1
DTSTART:20260423T163000Z
SEQUENCE:0
TRANSP:OPAQUE
DTEND:20260423T183000Z
URL:https://www.beilngries.de/veranstaltungen/nachhaltige_geldanlagen_vermo
 e-807281/
LOCATION:vhs-Gebäude\, Ringstraße 16 - Beilngries
SUMMARY:Nachhaltige Geldanlagen: \"Vermögen aufbauen und Altersrente erhö
 hen\"
DESCRIPTION:mit Otto Regnat
DTSTAMP:20260423T121820Z
END:VEVENT
END:VCALENDAR