BEGIN:VCALENDAR
VERSION:2.0
PRODID:https://www.beilngries.de/
X-PUBLISHED-TTL:P1D
BEGIN:VEVENT
UID:69e770922cece
DTSTART:20260513T170000Z
SEQUENCE:0
TRANSP:OPAQUE
DTEND:20260513T183000Z
URL:https://www.beilngries.de/veranstaltungen/neu_smartphone_fuer_senioren_
 u-807335-12682047/
LOCATION:vhs-Gebäude\, Ringstraße 16 - Beilngries
SUMMARY:NEU Smartphone für Senioren und Einsteiger
DESCRIPTION:mit Kielstein Jens
DTSTAMP:20260421T144154Z
END:VEVENT
END:VCALENDAR