BEGIN:VCALENDAR
VERSION:2.0
PRODID:https://www.beilngries.de/
X-PUBLISHED-TTL:P1D
BEGIN:VEVENT
UID:69e76fcbcad19
DTSTART:20260520T170000Z
SEQUENCE:0
TRANSP:OPAQUE
DTEND:20260520T183000Z
URL:https://www.beilngries.de/veranstaltungen/neu_smartphone_fuer_senioren_
 u-807335-12682049/
LOCATION:vhs-Gebäude\, Ringstraße 16 - Beilngries
SUMMARY:NEU Smartphone für Senioren und Einsteiger
DESCRIPTION:mit Kielstein Jens
DTSTAMP:20260421T143835Z
END:VEVENT
END:VCALENDAR