BEGIN:VCALENDAR
VERSION:2.0
PRODID:https://www.beilngries.de/
X-PUBLISHED-TTL:P1D
BEGIN:VEVENT
UID:69e780554392f
DTSTART:20260506T170000Z
SEQUENCE:0
TRANSP:OPAQUE
DTEND:20260506T183000Z
URL:https://www.beilngries.de/veranstaltungen/neu_smartphone_fuer_senioren_
 u-807335/
LOCATION:vhs-Gebäude\, Ringstraße 16 - Beilngries
SUMMARY:NEU Smartphone für Senioren und Einsteiger
DESCRIPTION:mit Kielstein Jens
DTSTAMP:20260421T154909Z
END:VEVENT
END:VCALENDAR