BEGIN:VCALENDAR
VERSION:2.0
PRODID:https://www.beilngries.de/
X-PUBLISHED-TTL:P1D
BEGIN:VEVENT
UID:69e7804262f73
DTSTART:20260628T113000Z
SEQUENCE:0
TRANSP:OPAQUE
DTEND:20260628T163000Z
URL:https://www.beilngries.de/veranstaltungen/online-einkommensteuererklaer
 u-807293/
LOCATION:vhs-Gebäude\, Ringstraße 16 - Beilngries
SUMMARY:Online - Einkommensteuererklärung verständlich gemacht
DESCRIPTION:mit Volker Riechert
DTSTAMP:20260421T154850Z
END:VEVENT
END:VCALENDAR