BEGIN:VCALENDAR
VERSION:2.0
PRODID:https://www.beilngries.de/
X-PUBLISHED-TTL:P1D
BEGIN:VEVENT
UID:69e9e2154b1a2
DTSTART:20260507T153000Z
SEQUENCE:0
TRANSP:OPAQUE
DTEND:20260507T173000Z
URL:https://www.beilngries.de/veranstaltungen/online_einkommensteuer_online
 -807285-12681941/
LOCATION:vhs-Gebäude\, Ringstraße 16 - Beilngries
SUMMARY:Online: \"Einkommensteuer Online abgeben - der Umstieg auf Elster\"
 Ti
DESCRIPTION:mit Tim Klein
DTSTAMP:20260423T111045Z
END:VEVENT
END:VCALENDAR