BEGIN:VCALENDAR
VERSION:2.0
PRODID:https://www.beilngries.de/
X-PUBLISHED-TTL:P1D
BEGIN:VEVENT
UID:69e76fa01e78d
DTSTART:20260710T153000Z
SEQUENCE:0
TRANSP:OPAQUE
DTEND:20260710T173000Z
URL:https://www.beilngries.de/veranstaltungen/online_einkommensteuer_online
 -807289-12681945/
LOCATION:vhs-Gebäude\, Ringstraße 16 - Beilngries
SUMMARY:Online: \"Einkommensteuer Online abgeben - Der Umstieg auf Elster\"
DESCRIPTION:mit Tim Klein
DTSTAMP:20260421T143752Z
END:VEVENT
END:VCALENDAR