BEGIN:VCALENDAR
VERSION:2.0
PRODID:https://www.beilngries.de/
X-PUBLISHED-TTL:P1D
BEGIN:VEVENT
UID:69e76f8ce03b4
DTSTART:20260504T170000Z
SEQUENCE:0
TRANSP:OPAQUE
DTEND:20260504T183000Z
URL:https://www.beilngries.de/veranstaltungen/pflanzliche_antibiotika-80730
 1-12681957/
LOCATION:Spielzeugmuseum 1. OG Schulungsraum Schachclub - Beilngries
SUMMARY:Pflanzliche Antibiotika
DESCRIPTION:mit Reindl Hannelore
DTSTAMP:20260421T143732Z
END:VEVENT
END:VCALENDAR