BEGIN:VCALENDAR
VERSION:2.0
PRODID:https://www.beilngries.de/
X-PUBLISHED-TTL:P1D
BEGIN:VEVENT
UID:69e7824351f62
DTSTART;VALUE=DATE:20260731
SEQUENCE:0
TRANSP:OPAQUE
DTEND;VALUE=DATE:20260803
URL:https://www.beilngries.de/veranstaltungen/schnupperkurs_segelfliegen_ab
 h-807297/
LOCATION:Flugplatz Beilngries - Beilngries
SUMMARY:Schnupperkurs Segelfliegen – Abheben leicht gemacht!
DESCRIPTION:mit Thomas Pipp
X-MICROSOFT-CDO-ALLDAYEVENT:TRUE
DTSTAMP:20260421T155723Z
END:VEVENT
END:VCALENDAR