BEGIN:VCALENDAR
VERSION:2.0
PRODID:https://www.beilngries.de/
X-PUBLISHED-TTL:P1D
BEGIN:VEVENT
UID:69ed5afa6f2b5
DTSTART:20260606T150000Z
SEQUENCE:0
TRANSP:OPAQUE
DTEND:20260606T160000Z
URL:https://www.beilngries.de/veranstaltungen/stadtfuehrung_durch_das_histo
 r-729501-12632063/
LOCATION:Kirchenvorplatz - Beilngries
SUMMARY:Stadtführung durch das historische Beilngries
DTSTAMP:20260426T022322Z
END:VEVENT
END:VCALENDAR