BEGIN:VCALENDAR
VERSION:2.0
PRODID:https://www.beilngries.de/
X-PUBLISHED-TTL:P1D
BEGIN:VEVENT
UID:69e770e482546
DTSTART:20260624T160000Z
SEQUENCE:0
TRANSP:OPAQUE
DTEND:20260624T193000Z
URL:https://www.beilngries.de/veranstaltungen/syrische_kueche-kulinarische_
 r-807339-12682053/
LOCATION:Mittelschule Beilngries\, Schulküche - Beilngries
SUMMARY:Syrische Küche - Kulinarische Reise in den Orient
DESCRIPTION:mit Al Abdo Iyad
DTSTAMP:20260421T144316Z
END:VEVENT
END:VCALENDAR