BEGIN:VCALENDAR
VERSION:2.0
PRODID:https://www.beilngries.de/
X-PUBLISHED-TTL:P1D
BEGIN:VEVENT
UID:69eb749e50ebf
DTSTART:20260906T120000Z
SEQUENCE:0
TRANSP:OPAQUE
DTEND:20260906T120000Z
URL:https://www.beilngries.de/veranstaltungen/traditioneller_volksfestzug-6
 26117/
LOCATION:Hauptstraße - Beilngries
SUMMARY:Traditioneller Volksfestzug
DTSTAMP:20260424T154814Z
END:VEVENT
END:VCALENDAR