BEGIN:VCALENDAR
VERSION:2.0
PRODID:https://www.beilngries.de/
X-PUBLISHED-TTL:P1D
BEGIN:VEVENT
UID:69ecea14e195d
DTSTART;VALUE=DATE:20261013
SEQUENCE:0
TRANSP:OPAQUE
DTEND;VALUE=DATE:20261013
URL:https://www.beilngries.de/veranstaltungen/waren-_und_krammarkt-732433-1
 2632955/
LOCATION:Hauptstraße - Beilngries
SUMMARY:Waren- und Krammarkt
X-MICROSOFT-CDO-ALLDAYEVENT:TRUE
DTSTAMP:20260425T182140Z
END:VEVENT
END:VCALENDAR