BEGIN:VCALENDAR
VERSION:2.0
PRODID:https://www.beilngries.de/
X-PUBLISHED-TTL:P1D
BEGIN:VEVENT
UID:69ed6a3254023
DTSTART;VALUE=DATE:20261027
SEQUENCE:0
TRANSP:OPAQUE
DTEND;VALUE=DATE:20261027
URL:https://www.beilngries.de/veranstaltungen/waren-_und_krammarkt-732433-1
 2632957/
LOCATION:Hauptstraße - Beilngries
SUMMARY:Waren- und Krammarkt
X-MICROSOFT-CDO-ALLDAYEVENT:TRUE
DTSTAMP:20260426T032818Z
END:VEVENT
END:VCALENDAR