BEGIN:VCALENDAR
VERSION:2.0
PRODID:https://www.beilngries.de/
X-PUBLISHED-TTL:P1D
BEGIN:VEVENT
UID:69e76e714e5c5
DTSTART:20260511T160000Z
SEQUENCE:0
TRANSP:OPAQUE
DTEND:20260511T193000Z
URL:https://www.beilngries.de/veranstaltungen/wilde_kueche-kochen_mit_wildk
 r-807347-12682061/
LOCATION:Mittelschule Beilngries\, Schulküche - Beilngries
SUMMARY:\"Wilde Küche\" - Kochen mit Wildkräutern
DESCRIPTION:mit Kipfelsberger-Halsner Bianka
DTSTAMP:20260421T143249Z
END:VEVENT
END:VCALENDAR