BEGIN:VCALENDAR
VERSION:2.0
PRODID:https://www.beilngries.de/
X-PUBLISHED-TTL:P1D
BEGIN:VEVENT
UID:69e76e7151873
DTSTART:20260620T120000Z
SEQUENCE:0
TRANSP:OPAQUE
DTEND:20260620T143000Z
URL:https://www.beilngries.de/veranstaltungen/wildkraeuterwanderung_im_juni
 -807329-12682039/
LOCATION:vhs-Gebäude\, Ringstraße 16 - Beilngries
SUMMARY:Wildkräuterwanderung im Juni
DESCRIPTION:mit Schmidt Marie-Luise
DTSTAMP:20260421T143249Z
END:VEVENT
END:VCALENDAR